BEGIN:VCALENDAR
VERSION:2.0
PRODID:-//NECOG - ECPv6.15.18//NONSGML v1.0//EN
CALSCALE:GREGORIAN
METHOD:PUBLISH
X-WR-CALNAME:NECOG
X-ORIGINAL-URL:https://necog.org
X-WR-CALDESC:Events for NECOG
REFRESH-INTERVAL;VALUE=DURATION:PT1H
X-Robots-Tag:noindex
X-PUBLISHED-TTL:PT1H
BEGIN:VTIMEZONE
TZID:UTC
BEGIN:STANDARD
TZOFFSETFROM:+0000
TZOFFSETTO:+0000
TZNAME:UTC
DTSTART:20240101T000000
END:STANDARD
END:VTIMEZONE
BEGIN:VEVENT
DTSTART;VALUE=DATE:20251001
DTEND;VALUE=DATE:20251002
DTSTAMP:20260421T093620
CREATED:20240905T203734Z
LAST-MODIFIED:20250623T175646Z
UID:683-1759276800-1759363199@necog.org
SUMMARY:Solid Waste Management Applications Due
DESCRIPTION:The Solid Waste Management Program provides grants\, loans\, or a combination of grants and loans for solid waste disposal\, recycling\, and waste tire projects. Applicants must clearly show how the project will advance the State’s solid waste management hierarchy; volume reduction at the source; recycling and reuse; use for energy production; and disposal in landfill or combustion for volume reduction. Show potential cost savings\, public health\, or environmental benefits in solid waste management\, waste tire management\, or waste tire processing for energy production; and develop a detailed workplan\, time schedule\, budget\, and provisions for a final report. Eligible applicants include: individuals\, partnerships\, limited liability companies\, corporations\, counties\, cooperatives\, municipalities\, regional or state-wide planning agencies\, federally recognized Indian tribes\, or special purpose districts that have the authority to construct or operate solid waste\, waste tire\, or recycling facilities. Applications are accepted on or before the first day of January\, April\, July or October.
URL:https://necog.org/event/solid-waste-management-applications-due/
END:VEVENT
BEGIN:VEVENT
DTSTART;VALUE=DATE:20251001
DTEND;VALUE=DATE:20251002
DTSTAMP:20260421T093620
CREATED:20240905T194746Z
LAST-MODIFIED:20250623T175502Z
UID:653-1759276800-1759363199@necog.org
SUMMARY:Community Development Block Grant Applications Due
DESCRIPTION:Grant funds are available to cities and counties\, which may apply on behalf of other non-profits or units of government. These grant funds help develop viable communities by providing funds for a wide range of community needs\, including water and wastewater infrastructure\, community centers\, medical centers\, workforce training\, senior centers; and for industrial infrastructure that will assist businesses creating new job opportunities for low- and moderate-income (LMI) individuals. Applications are accepted April 1 and October 1.
URL:https://necog.org/event/community-development-block-grant-applications-due/
END:VEVENT
BEGIN:VEVENT
DTSTART;VALUE=DATE:20251001
DTEND;VALUE=DATE:20251002
DTSTAMP:20260421T093620
CREATED:20240905T202258Z
LAST-MODIFIED:20250623T175602Z
UID:663-1759276800-1759363199@necog.org
SUMMARY:Drinking Water & Sanitary/Storm Sewer Applications Due
DESCRIPTION:The South Dakota DANR has several programs available to communities including: Consolidated Water Facilities Construction program\, Drinking Water and Clean Water State Revolving Fund Loans\, and Water Quality grants. DANR grants and loans are available to assist with community infrastructure projects\, such as drinking water systems\, waste water systems\, storm water systems\, and lake and stream projects. Projects must be listed on the State Water Plan to be eligible to apply. Applications are accepted on or before the first day of January\, April\, July or October.
URL:https://necog.org/event/drinking-water-sanitary-storm-sewer-applications-due/
END:VEVENT
BEGIN:VEVENT
DTSTART;VALUE=DATE:20251001
DTEND;VALUE=DATE:20251002
DTSTAMP:20260421T093620
CREATED:20240905T203048Z
LAST-MODIFIED:20250623T175624Z
UID:673-1759276800-1759363199@necog.org
SUMMARY:State Water Plan Applications Due
DESCRIPTION:Units of government\, non-profits\, lake associations\, and rural water systems are eligible to list water\, sewer\, storm water\, and lake and stream projects on the State Water Plan. A project must be listed on the State Water Plan in order to be eligible for grant and loan funds from DANR. Applications are accepted quarterly on February 1st\, May 1st\, August 1st\, and October 1st of each year.
URL:https://necog.org/event/state-water-plan-applications-due/
END:VEVENT
BEGIN:VEVENT
DTSTART;VALUE=DATE:20251001
DTEND;VALUE=DATE:20251002
DTSTAMP:20260421T093620
CREATED:20240906T132056Z
LAST-MODIFIED:20250623T175708Z
UID:743-1759276800-1759363199@necog.org
SUMMARY:Deadwood Fund Grant Applications Due
DESCRIPTION:Funded by a portion of the gambling revenue generated in Deadwood\, South Dakota. Grants ranging from $1\,000 to $25\,000 given to projects that retain\, restore\, or rehabilitate historic buildings\, structures\, and archaeology sites in South Dakota for commercial\, residential\, or public purposes. Applications accepted February 1 and October 1.
URL:https://necog.org/event/deadwood-fund-grant-applications-due/
END:VEVENT
END:VCALENDAR